BEGIN:VCALENDAR
VERSION:2.0
PRODID:-//Redeemed Assembly - ECPv5.0.2.1//NONSGML v1.0//EN
CALSCALE:GREGORIAN
METHOD:PUBLISH
X-WR-CALNAME:Redeemed Assembly
X-ORIGINAL-URL:https://www.redeemedassembly.org
X-WR-CALDESC:Events for Redeemed Assembly
BEGIN:VTIMEZONE
TZID:UTC
BEGIN:STANDARD
TZOFFSETFROM:+0000
TZOFFSETTO:+0000
TZNAME:UTC
DTSTART:20180101T000000
END:STANDARD
END:VTIMEZONE
BEGIN:VEVENT
DTSTART;VALUE=DATE:20180617
DTEND;VALUE=DATE:20180618
DTSTAMP:20260420T225415
CREATED:20180319T152743Z
LAST-MODIFIED:20180319T152743Z
UID:1492-1529193600-1529279999@www.redeemedassembly.org
SUMMARY:Father's Day
DESCRIPTION:
URL:https://www.redeemedassembly.org/event/fathers-day/
END:VEVENT
END:VCALENDAR