BEGIN:VCALENDAR
VERSION:2.0
PRODID:-//Redeemed Assembly - ECPv5.0.2.1//NONSGML v1.0//EN
CALSCALE:GREGORIAN
METHOD:PUBLISH
X-WR-CALNAME:Redeemed Assembly
X-ORIGINAL-URL:https://www.redeemedassembly.org
X-WR-CALDESC:Events for Redeemed Assembly
BEGIN:VTIMEZONE
TZID:UTC
BEGIN:STANDARD
TZOFFSETFROM:+0000
TZOFFSETTO:+0000
TZNAME:UTC
DTSTART:20180101T000000
END:STANDARD
END:VTIMEZONE
BEGIN:VEVENT
DTSTART;TZID=UTC:20180615T080000
DTEND;TZID=UTC:20180615T170000
DTSTAMP:20260420T225903
CREATED:20180319T152710Z
LAST-MODIFIED:20180319T152710Z
UID:1490-1529049600-1529082000@www.redeemedassembly.org
SUMMARY:LIT STAR RETREAT FOLLOW-UP
DESCRIPTION:
URL:https://www.redeemedassembly.org/event/lit-star-retreat-follow-up/
END:VEVENT
END:VCALENDAR