BEGIN:VCALENDAR
VERSION:2.0
PRODID:-//Redeemed Assembly - ECPv5.0.2.1//NONSGML v1.0//EN
CALSCALE:GREGORIAN
METHOD:PUBLISH
X-WR-CALNAME:Redeemed Assembly
X-ORIGINAL-URL:https://www.redeemedassembly.org
X-WR-CALDESC:Events for Redeemed Assembly
BEGIN:VTIMEZONE
TZID:UTC
BEGIN:STANDARD
TZOFFSETFROM:+0000
TZOFFSETTO:+0000
TZNAME:UTC
DTSTART:20180101T000000
END:STANDARD
END:VTIMEZONE
BEGIN:VEVENT
DTSTART;TZID=UTC:20180330T193000
DTEND;TZID=UTC:20180330T193000
DTSTAMP:20260421T013711
CREATED:20180308T153516Z
LAST-MODIFIED:20180308T153516Z
UID:1420-1522438200-1522438200@www.redeemedassembly.org
SUMMARY:Good Friday Service
DESCRIPTION:
URL:https://www.redeemedassembly.org/event/good-friday-service/
LOCATION:Redeemed Assembly of Jesus Christ\, 2200 Fairfax Avenue\, Richmond\, VA 23224\, 2200 Fairfax Avenue\, Richmond\, VA\, 23224\, United States
END:VEVENT
END:VCALENDAR