BEGIN:VCALENDAR
VERSION:2.0
PRODID:-//Redeemed Assembly - ECPv5.0.2.1//NONSGML v1.0//EN
CALSCALE:GREGORIAN
METHOD:PUBLISH
X-WR-CALNAME:Redeemed Assembly
X-ORIGINAL-URL:https://www.redeemedassembly.org
X-WR-CALDESC:Events for Redeemed Assembly
BEGIN:VTIMEZONE
TZID:UTC
BEGIN:STANDARD
TZOFFSETFROM:+0000
TZOFFSETTO:+0000
TZNAME:UTC
DTSTART:20170101T000000
END:STANDARD
END:VTIMEZONE
BEGIN:VEVENT
DTSTART;VALUE=DATE:20170622
DTEND;VALUE=DATE:20170626
DTSTAMP:20260421T173838
CREATED:20170315T201408Z
LAST-MODIFIED:20170315T204541Z
UID:858-1498089600-1498435199@www.redeemedassembly.org
SUMMARY:Encounter Meeting 2017
DESCRIPTION: \nJoin us for a spiritual encounter beginning June 22\, 2017-June 25\, 2017.  Speakers include Bishop S. Y. Younger\, Pastor Jonathan Miller\, and Richmond’s own powerhouse\, Dr. James F. Harris.  You don’t want to miss it.  You can expect explosive worship\, life-changing Word\, and miracles.  Your life will never be the same.  This event will take place on Richmond’s Southside at Redeemed Assembly of Jesus Christ\, located 2200 Fairfax Avenue\, Richmond\, VA 23224.  Services will take place 7:30 p.m. nightly\, Saturday at 6:00 p.m. and Sunday at 10:00 a.m.  Register Today by clicking here.  Register before June 4th and adults save $25\, Teens save $10\, and Children save $5.  Hope to see you there. \n
URL:https://www.redeemedassembly.org/event/encounter-meeting-2017/
LOCATION:Redeemed Assembly of Jesus Christ\, 2200 Fairfax Avenue\, Richmond\, VA 23224\, 2200 Fairfax Avenue\, Richmond\, VA\, 23224\, United States
END:VEVENT
END:VCALENDAR