BEGIN:VCALENDAR
VERSION:2.0
PRODID:-//Redeemed Assembly - ECPv5.0.2.1//NONSGML v1.0//EN
CALSCALE:GREGORIAN
METHOD:PUBLISH
X-WR-CALNAME:Redeemed Assembly
X-ORIGINAL-URL:https://www.redeemedassembly.org
X-WR-CALDESC:Events for Redeemed Assembly
BEGIN:VTIMEZONE
TZID:UTC
BEGIN:STANDARD
TZOFFSETFROM:+0000
TZOFFSETTO:+0000
TZNAME:UTC
DTSTART:20180101T000000
END:STANDARD
END:VTIMEZONE
BEGIN:VEVENT
DTSTART;VALUE=DATE:20180513
DTEND;VALUE=DATE:20180514
DTSTAMP:20260421T000308
CREATED:20180319T151637Z
LAST-MODIFIED:20180319T151637Z
UID:1480-1526169600-1526255999@www.redeemedassembly.org
SUMMARY:Mother's Day
DESCRIPTION:
URL:https://www.redeemedassembly.org/event/mothers-day/
END:VEVENT
END:VCALENDAR