BEGIN:VCALENDAR
VERSION:2.0
PRODID:-//Redeemed Assembly - ECPv5.0.2.1//NONSGML v1.0//EN
CALSCALE:GREGORIAN
METHOD:PUBLISH
X-WR-CALNAME:Redeemed Assembly
X-ORIGINAL-URL:https://www.redeemedassembly.org
X-WR-CALDESC:Events for Redeemed Assembly
BEGIN:VTIMEZONE
TZID:America/New_York
BEGIN:DAYLIGHT
TZOFFSETFROM:-0500
TZOFFSETTO:-0400
TZNAME:EDT
DTSTART:20170312T070000
END:DAYLIGHT
BEGIN:STANDARD
TZOFFSETFROM:-0400
TZOFFSETTO:-0500
TZNAME:EST
DTSTART:20171105T060000
END:STANDARD
END:VTIMEZONE
BEGIN:VEVENT
DTSTART;VALUE=DATE:20170526
DTEND;VALUE=DATE:20170529
DTSTAMP:20260421T063225
CREATED:20170315T194706Z
LAST-MODIFIED:20170315T195858Z
UID:850-1495756800-1496015999@www.redeemedassembly.org
SUMMARY:LIT STAR RETREAT 17
DESCRIPTION:  \n \nThank you for choosing to join us for our LIT Star Retreat. This is a time set aside for inspiration\, relaxation\, and rejuvenation.  Packages include lodging\, access to all sessions\, registration and fitness session.  This event will take place at the beautiful Norfolk Waterside Marriott Hotel & Convention Center located 235 East Main Street\, Norfolk\, VA 23510 and in walking distance of shopping and fine dining. Park your car for $14 per day and never get back in your vehicle until Sunday. All sessions are casual. Vendors and Sponsors are welcome.  We look forward to seeing and sharing with you.  Click  here to register and pay. \n
URL:https://www.redeemedassembly.org/event/lit-star-retreat-17/
LOCATION:Norfolk Waterside Marriott Hotel & Convention Center 235 East Main Street\, Norfolk\, VA 23510\, 235 East Main Street\, Norfolk\, Virginia\, 23510\, United States
CATEGORIES:LIT
ORGANIZER;CN="Danielle%20Branch":MAILTO:litladies@gmail.com
END:VEVENT
END:VCALENDAR