BEGIN:VCALENDAR
VERSION:2.0
PRODID:-//Redeemed Assembly - ECPv5.0.2.1//NONSGML v1.0//EN
CALSCALE:GREGORIAN
METHOD:PUBLISH
X-WR-CALNAME:Redeemed Assembly
X-ORIGINAL-URL:https://www.redeemedassembly.org
X-WR-CALDESC:Events for Redeemed Assembly
BEGIN:VTIMEZONE
TZID:America/New_York
BEGIN:DAYLIGHT
TZOFFSETFROM:-0500
TZOFFSETTO:-0400
TZNAME:EDT
DTSTART:20170312T070000
END:DAYLIGHT
BEGIN:STANDARD
TZOFFSETFROM:-0400
TZOFFSETTO:-0500
TZNAME:EST
DTSTART:20171105T060000
END:STANDARD
END:VTIMEZONE
BEGIN:VEVENT
DTSTART;TZID=America/New_York:20170301T193000
DTEND;TZID=America/New_York:20170301T203000
DTSTAMP:20260421T031322
CREATED:20170223T151841Z
LAST-MODIFIED:20170223T151841Z
UID:810-1488396600-1488400200@www.redeemedassembly.org
SUMMARY:Life-Changing Bible Study
DESCRIPTION:
URL:https://www.redeemedassembly.org/event/life-changing-bible-study/
END:VEVENT
END:VCALENDAR