BEGIN:VCALENDAR
VERSION:2.0
PRODID:-//Redeemed Assembly - ECPv5.0.2.1//NONSGML v1.0//EN
CALSCALE:GREGORIAN
METHOD:PUBLISH
X-WR-CALNAME:Redeemed Assembly
X-ORIGINAL-URL:https://www.redeemedassembly.org
X-WR-CALDESC:Events for Redeemed Assembly
BEGIN:VTIMEZONE
TZID:America/New_York
BEGIN:DAYLIGHT
TZOFFSETFROM:-0500
TZOFFSETTO:-0400
TZNAME:EDT
DTSTART:20170312T070000
END:DAYLIGHT
BEGIN:STANDARD
TZOFFSETFROM:-0400
TZOFFSETTO:-0500
TZNAME:EST
DTSTART:20171105T060000
END:STANDARD
END:VTIMEZONE
BEGIN:VEVENT
DTSTART;TZID=America/New_York:20170526T200000
DTEND;TZID=America/New_York:20170528T130000
DTSTAMP:20260421T044922
CREATED:20170223T153340Z
LAST-MODIFIED:20170223T153340Z
UID:818-1495828800-1495976400@www.redeemedassembly.org
SUMMARY:Ladies Retreat 2017
DESCRIPTION: \nJoin us for a time of inspiration\, relaxation\, and rejuvenation.  There is no retreat like a LIT Retreat!  You can expect powerful speakers\, engaging discussion\, direction\, practical steps to greatness\, and an encounter with the Lord.  Oh\, and did we mention great relationships with fabulous women?  All that!  Don’t miss your opportunity to next level living.  Hope to see you there! \n
URL:https://www.redeemedassembly.org/event/ladies-retreat-2017/
LOCATION:Norfolk Waterside Marriott Hotel & Convention Center 235 East Main Street\, Norfolk\, VA 23510\, 235 East Main Street\, Norfolk\, Virginia\, 23510\, United States
END:VEVENT
END:VCALENDAR