BEGIN:VCALENDAR
VERSION:2.0
PRODID:-//Redeemed Assembly - ECPv5.0.2.1//NONSGML v1.0//EN
CALSCALE:GREGORIAN
METHOD:PUBLISH
X-WR-CALNAME:Redeemed Assembly
X-ORIGINAL-URL:https://www.redeemedassembly.org
X-WR-CALDESC:Events for Redeemed Assembly
BEGIN:VTIMEZONE
TZID:UTC
BEGIN:STANDARD
TZOFFSETFROM:+0000
TZOFFSETTO:+0000
TZNAME:UTC
DTSTART:20180101T000000
END:STANDARD
END:VTIMEZONE
BEGIN:VEVENT
DTSTART;TZID=UTC:20180609T080000
DTEND;TZID=UTC:20180609T170000
DTSTAMP:20260420T225420
CREATED:20180319T152614Z
LAST-MODIFIED:20180319T152614Z
UID:1488-1528531200-1528563600@www.redeemedassembly.org
SUMMARY:Community Clean-Up Day
DESCRIPTION:
URL:https://www.redeemedassembly.org/event/community-clean-up-day/
END:VEVENT
END:VCALENDAR