BEGIN:VCALENDAR
VERSION:2.0
PRODID:-//Redeemed Assembly - ECPv5.0.2.1//NONSGML v1.0//EN
CALSCALE:GREGORIAN
METHOD:PUBLISH
X-WR-CALNAME:Redeemed Assembly
X-ORIGINAL-URL:https://www.redeemedassembly.org
X-WR-CALDESC:Events for Redeemed Assembly
BEGIN:VTIMEZONE
TZID:UTC
BEGIN:STANDARD
TZOFFSETFROM:+0000
TZOFFSETTO:+0000
TZNAME:UTC
DTSTART:20170101T000000
END:STANDARD
END:VTIMEZONE
BEGIN:VEVENT
DTSTART;VALUE=DATE:20171104
DTEND;VALUE=DATE:20171105
DTSTAMP:20260421T050428
CREATED:20171010T164819Z
LAST-MODIFIED:20171010T165133Z
UID:994-1509753600-1509839999@www.redeemedassembly.org
SUMMARY:50th Pastoral Celebration
DESCRIPTION: \nThis is your personal invitation from Redeemed Assembly inviting you to our Legends Celebration for Bishop James F. & Lady Sylvia H. Harris.  This year marks 50 years of pastoring\, 55 years of marriage\, and Bishop’s 75th Birthday.  Celebration services begin October 1-November 5th with a celebratory banquet on Saturday\, November 4\, 2017 at 10:00 a.m. at the Hilton Richmond Hotel & Spa/Shortpump.  Surprise (surprise) guest include Dr. Ricky Dilliard and New G\, Angella Christie\, and John Fox and New Flellowship.  Your presence would mean everything.  Click here to purchase your ticket today!!!! \n
URL:https://www.redeemedassembly.org/event/50th-pastoral-celebration/
LOCATION:Hilton Richmond Hotel and Spa Short Pump\, 12042 West Broad Street\, Richmond\, VA\, 23233\, United States
ORGANIZER;CN="Danielle%20Branch":MAILTO:litladies@gmail.com
END:VEVENT
END:VCALENDAR